BEGIN:VCALENDAR
VERSION:2.0
PRODID:-//GUFORC e.V. - Sternfreunde Nidderau - ECPv6.3.7//NONSGML v1.0//EN
CALSCALE:GREGORIAN
METHOD:PUBLISH
X-WR-CALNAME:GUFORC e.V. - Sternfreunde Nidderau
X-ORIGINAL-URL:https://www.guforc.de
X-WR-CALDESC:Veranstaltungen für GUFORC e.V. - Sternfreunde Nidderau
REFRESH-INTERVAL;VALUE=DURATION:PT1H
X-Robots-Tag:noindex
X-PUBLISHED-TTL:PT1H
BEGIN:VTIMEZONE
TZID:Europe/Berlin
BEGIN:DAYLIGHT
TZOFFSETFROM:+0100
TZOFFSETTO:+0200
TZNAME:CEST
DTSTART:20240331T010000
END:DAYLIGHT
BEGIN:STANDARD
TZOFFSETFROM:+0200
TZOFFSETTO:+0100
TZNAME:CET
DTSTART:20241027T010000
END:STANDARD
BEGIN:DAYLIGHT
TZOFFSETFROM:+0100
TZOFFSETTO:+0200
TZNAME:CEST
DTSTART:20250330T010000
END:DAYLIGHT
BEGIN:STANDARD
TZOFFSETFROM:+0200
TZOFFSETTO:+0100
TZNAME:CET
DTSTART:20251026T010000
END:STANDARD
END:VTIMEZONE
BEGIN:VEVENT
DTSTART;TZID=Europe/Berlin:20240104T180000
DTEND;TZID=Europe/Berlin:20250104T230000
DTSTAMP:20260421T150328
CREATED:20240108T101145Z
LAST-MODIFIED:20250114T150855Z
UID:4666-1704391200-1736031600@www.guforc.de
SUMMARY:Neumondtreffen   Entfällt
DESCRIPTION:
URL:https://www.guforc.de/event/neumondtreffen-76/
LOCATION:Vereinsheim
CATEGORIES:Öffentlich
END:VEVENT
BEGIN:VEVENT
DTSTART;TZID=Europe/Berlin:20240309T180000
DTEND;TZID=Europe/Berlin:20240309T230000
DTSTAMP:20260421T150328
CREATED:20240108T101449Z
LAST-MODIFIED:20240108T101449Z
UID:4668-1710007200-1710025200@www.guforc.de
SUMMARY:Neumondtreffen
DESCRIPTION:
URL:https://www.guforc.de/event/neumondtreffen-77/
LOCATION:Vereinsheim
CATEGORIES:Öffentlich
END:VEVENT
BEGIN:VEVENT
DTSTART;TZID=Europe/Berlin:20240324T120000
DTEND;TZID=Europe/Berlin:20240324T140000
DTSTAMP:20260421T150328
CREATED:20240108T103701Z
LAST-MODIFIED:20240324T094251Z
UID:4694-1711281600-1711288800@www.guforc.de
SUMMARY:Astro-Stammtisch
DESCRIPTION:
URL:https://www.guforc.de/event/astro-stammtisch-46/
LOCATION:Ristorante zum Prinzen\, Konrad-Adenauer-Allee 3\, NIDDERAU\, 61130\, Deutschland
CATEGORIES:Öffentlich
END:VEVENT
END:VCALENDAR