BEGIN:VCALENDAR
VERSION:2.0
PRODID:-//GUFORC e.V. - Sternfreunde Nidderau - ECPv6.3.7//NONSGML v1.0//EN
CALSCALE:GREGORIAN
METHOD:PUBLISH
X-ORIGINAL-URL:https://www.guforc.de
X-WR-CALDESC:Veranstaltungen für GUFORC e.V. - Sternfreunde Nidderau
REFRESH-INTERVAL;VALUE=DURATION:PT1H
X-Robots-Tag:noindex
X-PUBLISHED-TTL:PT1H
BEGIN:VTIMEZONE
TZID:Europe/Berlin
BEGIN:DAYLIGHT
TZOFFSETFROM:+0100
TZOFFSETTO:+0200
TZNAME:CEST
DTSTART:20230326T010000
END:DAYLIGHT
BEGIN:STANDARD
TZOFFSETFROM:+0200
TZOFFSETTO:+0100
TZNAME:CET
DTSTART:20231029T010000
END:STANDARD
END:VTIMEZONE
BEGIN:VEVENT
DTSTART;TZID=Europe/Berlin:20231105T110000
DTEND;TZID=Europe/Berlin:20231105T140000
DTSTAMP:20260421T224420
CREATED:20221228T103855Z
LAST-MODIFIED:20231102T132240Z
UID:4435-1699182000-1699192800@www.guforc.de
SUMMARY:Astrostammtisch
DESCRIPTION:
URL:https://www.guforc.de/event/astrostammtisch-22/
LOCATION:Hannibal Landhausküche\, Gehrener Ring 5\, NIDDERAU\, 61130
CATEGORIES:Öffentlich
END:VEVENT
BEGIN:VEVENT
DTSTART;TZID=Europe/Berlin:20231111T180000
DTEND;TZID=Europe/Berlin:20231111T180000
DTSTAMP:20260421T224420
CREATED:20221228T105822Z
LAST-MODIFIED:20231111T125150Z
UID:4460-1699725600-1699725600@www.guforc.de
SUMMARY:Neumondtreffen entfällt
DESCRIPTION:
URL:https://www.guforc.de/event/neumondtreffen-73/
LOCATION:Da Toni Altenstadt\, Deutschland
CATEGORIES:Öffentlich
END:VEVENT
BEGIN:VEVENT
DTSTART;TZID=Europe/Berlin:20231119T080000
DTEND;TZID=Europe/Berlin:20231119T170000
DTSTAMP:20260421T224420
CREATED:20221228T110641Z
LAST-MODIFIED:20221228T110641Z
UID:4468-1700380800-1700413200@www.guforc.de
SUMMARY:Vorstandssitzung
DESCRIPTION:
URL:https://www.guforc.de/event/vorstandssitzung-16/
LOCATION:Da Toni Altenstadt\, Deutschland
CATEGORIES:Vereinsintern
END:VEVENT
END:VCALENDAR