BEGIN:VCALENDAR
VERSION:2.0
PRODID:-//GUFORC e.V. - Sternfreunde Nidderau - ECPv6.3.7//NONSGML v1.0//EN
CALSCALE:GREGORIAN
METHOD:PUBLISH
X-WR-CALNAME:GUFORC e.V. - Sternfreunde Nidderau
X-ORIGINAL-URL:https://www.guforc.de
X-WR-CALDESC:Veranstaltungen für GUFORC e.V. - Sternfreunde Nidderau
REFRESH-INTERVAL;VALUE=DURATION:PT1H
X-Robots-Tag:noindex
X-PUBLISHED-TTL:PT1H
BEGIN:VTIMEZONE
TZID:Europe/Berlin
BEGIN:DAYLIGHT
TZOFFSETFROM:+0100
TZOFFSETTO:+0200
TZNAME:CEST
DTSTART:20230326T010000
END:DAYLIGHT
BEGIN:STANDARD
TZOFFSETFROM:+0200
TZOFFSETTO:+0100
TZNAME:CET
DTSTART:20231029T010000
END:STANDARD
END:VTIMEZONE
BEGIN:VEVENT
DTSTART;TZID=Europe/Berlin:20231001T110000
DTEND;TZID=Europe/Berlin:20231001T130000
DTSTAMP:20260422T002138
CREATED:20221228T103802Z
LAST-MODIFIED:20231012T114550Z
UID:4433-1696158000-1696165200@www.guforc.de
SUMMARY:Astrostammtisch entfällt
DESCRIPTION:
URL:https://www.guforc.de/event/astrostammtisch-21/
LOCATION:Vereinsheim
CATEGORIES:Öffentlich
END:VEVENT
BEGIN:VEVENT
DTSTART;VALUE=DATE:20231007
DTEND;VALUE=DATE:20231009
DTSTAMP:20260422T002138
CREATED:20221228T111935Z
LAST-MODIFIED:20231012T114455Z
UID:4480-1696636800-1696809599@www.guforc.de
SUMMARY:Vereinsausflug    entfällt
DESCRIPTION:
URL:https://www.guforc.de/event/vereinsausflug/
LOCATION:Da Toni Altenstadt\, Deutschland
CATEGORIES:Vereinsintern
END:VEVENT
BEGIN:VEVENT
DTSTART;TZID=Europe/Berlin:20231021T180000
DTEND;TZID=Europe/Berlin:20231021T180100
DTSTAMP:20260422T002138
CREATED:20221228T105716Z
LAST-MODIFIED:20231020T083035Z
UID:4458-1697911200-1697911260@www.guforc.de
SUMMARY:Neumondtreffen entfällt
DESCRIPTION:
URL:https://www.guforc.de/event/neumondtreffen-72/
LOCATION:Kärnten
CATEGORIES:Öffentlich
END:VEVENT
BEGIN:VEVENT
DTSTART;VALUE=DATE:20231028
DTEND;VALUE=DATE:20231029
DTSTAMP:20260422T002138
CREATED:20221228T111011Z
LAST-MODIFIED:20221228T111011Z
UID:4472-1698451200-1698537599@www.guforc.de
SUMMARY:Bundesweiter Astronomietag
DESCRIPTION:
URL:https://www.guforc.de/event/bundesweiter-astronomietag-4/
LOCATION:Kärnten
CATEGORIES:Öffentlich
END:VEVENT
END:VCALENDAR