BEGIN:VCALENDAR
VERSION:2.0
PRODID:-//GUFORC e.V. - Sternfreunde Nidderau - ECPv6.3.7//NONSGML v1.0//EN
CALSCALE:GREGORIAN
METHOD:PUBLISH
X-ORIGINAL-URL:https://www.guforc.de
X-WR-CALDESC:Veranstaltungen für GUFORC e.V. - Sternfreunde Nidderau
REFRESH-INTERVAL;VALUE=DURATION:PT1H
X-Robots-Tag:noindex
X-PUBLISHED-TTL:PT1H
BEGIN:VTIMEZONE
TZID:Europe/Berlin
BEGIN:DAYLIGHT
TZOFFSETFROM:+0100
TZOFFSETTO:+0200
TZNAME:CEST
DTSTART:20230326T010000
END:DAYLIGHT
BEGIN:STANDARD
TZOFFSETFROM:+0200
TZOFFSETTO:+0100
TZNAME:CET
DTSTART:20231029T010000
END:STANDARD
END:VTIMEZONE
BEGIN:VEVENT
DTSTART;TZID=Europe/Berlin:20230903T110000
DTEND;TZID=Europe/Berlin:20230903T130000
DTSTAMP:20260422T015142
CREATED:20221228T103716Z
LAST-MODIFIED:20230831T120015Z
UID:4431-1693738800-1693746000@www.guforc.de
SUMMARY:Astrostammtisch
DESCRIPTION:
URL:https://www.guforc.de/event/astrostammtisch-20/
LOCATION:Nidderhalle\, Höchster Straße 6\, Nidderau-Eichen\, 61130
CATEGORIES:Öffentlich
END:VEVENT
BEGIN:VEVENT
DTSTART;TZID=Europe/Berlin:20230916T180000
DTEND;TZID=Europe/Berlin:20230916T233000
DTSTAMP:20260422T015142
CREATED:20221228T105550Z
LAST-MODIFIED:20221228T105550Z
UID:4456-1694887200-1694907000@www.guforc.de
SUMMARY:Neumondtreffen
DESCRIPTION:
URL:https://www.guforc.de/event/neumondtreffen-71/
LOCATION:Vereinsheim
CATEGORIES:Öffentlich
END:VEVENT
BEGIN:VEVENT
DTSTART;VALUE=DATE:20230917
DTEND;VALUE=DATE:20230925
DTSTAMP:20260422T015142
CREATED:20221228T112056Z
LAST-MODIFIED:20221228T112056Z
UID:4482-1694908800-1695599999@www.guforc.de
SUMMARY:ITT in Kärnten
DESCRIPTION:
URL:https://www.guforc.de/event/itt-in-kaernten/
LOCATION:Emberger Alm\, Emberger Alm\, Kärnten\, 9761\, Österreich
CATEGORIES:Öffentlich
END:VEVENT
BEGIN:VEVENT
DTSTART;VALUE=DATE:20230930
DTEND;VALUE=DATE:20231001
DTSTAMP:20260422T015142
CREATED:20221228T112241Z
LAST-MODIFIED:20221228T112241Z
UID:4484-1696032000-1696118399@www.guforc.de
SUMMARY:ABK AstronomieBörse Bad Kreuznach
DESCRIPTION:
URL:https://www.guforc.de/event/abk-astronomieboerse-bad-kreuznach/
LOCATION:Bad Kreuznach
CATEGORIES:Öffentlich
END:VEVENT
END:VCALENDAR