BEGIN:VCALENDAR
VERSION:2.0
PRODID:-//GUFORC e.V. - Sternfreunde Nidderau - ECPv6.3.7//NONSGML v1.0//EN
CALSCALE:GREGORIAN
METHOD:PUBLISH
X-ORIGINAL-URL:https://www.guforc.de
X-WR-CALDESC:Veranstaltungen für GUFORC e.V. - Sternfreunde Nidderau
REFRESH-INTERVAL;VALUE=DURATION:PT1H
X-Robots-Tag:noindex
X-PUBLISHED-TTL:PT1H
BEGIN:VTIMEZONE
TZID:Europe/Berlin
BEGIN:DAYLIGHT
TZOFFSETFROM:+0100
TZOFFSETTO:+0200
TZNAME:CEST
DTSTART:20230326T010000
END:DAYLIGHT
BEGIN:STANDARD
TZOFFSETFROM:+0200
TZOFFSETTO:+0100
TZNAME:CET
DTSTART:20231029T010000
END:STANDARD
END:VTIMEZONE
BEGIN:VEVENT
DTSTART;TZID=Europe/Berlin:20230507T110000
DTEND;TZID=Europe/Berlin:20230507T130000
DTSTAMP:20260423T194455
CREATED:20221228T103250Z
LAST-MODIFIED:20221228T103250Z
UID:4422-1683457200-1683464400@www.guforc.de
SUMMARY:Astrostammtisch
DESCRIPTION:
URL:https://www.guforc.de/event/astrostammtisch-16/
LOCATION:Vereinsheim
CATEGORIES:Öffentlich
END:VEVENT
BEGIN:VEVENT
DTSTART;VALUE=DATE:20230513
DTEND;VALUE=DATE:20230514
DTSTAMP:20260423T194455
CREATED:20221228T111542Z
LAST-MODIFIED:20221228T111542Z
UID:4476-1683936000-1684022399@www.guforc.de
SUMMARY:ATT Essen
DESCRIPTION:
URL:https://www.guforc.de/event/att-essen/
LOCATION:Kärnten
CATEGORIES:Öffentlich
END:VEVENT
BEGIN:VEVENT
DTSTART;VALUE=DATE:20230516
DTEND;VALUE=DATE:20230526
DTSTAMP:20260423T194455
CREATED:20221228T111159Z
LAST-MODIFIED:20221228T111159Z
UID:4474-1684195200-1685059199@www.guforc.de
SUMMARY:Beobachten auf der Emberger Alm
DESCRIPTION:
URL:https://www.guforc.de/event/beobachten-auf-der-emberger-alm-3/
LOCATION:Emberger Alm\, Emberger Alm\, Kärnten\, 9761\, Österreich
CATEGORIES:Vereinsintern
END:VEVENT
BEGIN:VEVENT
DTSTART;VALUE=DATE:20230517
DTEND;VALUE=DATE:20230522
DTSTAMP:20260423T194455
CREATED:20221228T111804Z
LAST-MODIFIED:20221228T111804Z
UID:4478-1684281600-1684713599@www.guforc.de
SUMMARY:ITV Internationales Teleskoptreffen Vogelsberg am Gederner See
DESCRIPTION:
URL:https://www.guforc.de/event/itv-internationales-teleskoptreffen-vogelsberg-am-gederner-see/
LOCATION:Kärnten
CATEGORIES:Öffentlich
END:VEVENT
BEGIN:VEVENT
DTSTART;TZID=Europe/Berlin:20230520T180000
DTEND;TZID=Europe/Berlin:20230520T233000
DTSTAMP:20260423T194455
CREATED:20221228T104934Z
LAST-MODIFIED:20221228T104934Z
UID:4447-1684605600-1684625400@www.guforc.de
SUMMARY:Neumondtreffen
DESCRIPTION:
URL:https://www.guforc.de/event/neumondtreffen-67/
LOCATION:Vereinsheim
CATEGORIES:Öffentlich
END:VEVENT
END:VCALENDAR