BEGIN:VCALENDAR
VERSION:2.0
PRODID:-//GUFORC e.V. - Sternfreunde Nidderau - ECPv6.3.7//NONSGML v1.0//EN
CALSCALE:GREGORIAN
METHOD:PUBLISH
X-WR-CALNAME:GUFORC e.V. - Sternfreunde Nidderau
X-ORIGINAL-URL:https://www.guforc.de
X-WR-CALDESC:Veranstaltungen für GUFORC e.V. - Sternfreunde Nidderau
REFRESH-INTERVAL;VALUE=DURATION:PT1H
X-Robots-Tag:noindex
X-PUBLISHED-TTL:PT1H
BEGIN:VTIMEZONE
TZID:Europe/Berlin
BEGIN:DAYLIGHT
TZOFFSETFROM:+0100
TZOFFSETTO:+0200
TZNAME:CEST
DTSTART:20230326T010000
END:DAYLIGHT
BEGIN:STANDARD
TZOFFSETFROM:+0200
TZOFFSETTO:+0100
TZNAME:CET
DTSTART:20231029T010000
END:STANDARD
END:VTIMEZONE
BEGIN:VEVENT
DTSTART;VALUE=DATE:20231007
DTEND;VALUE=DATE:20231009
DTSTAMP:20260422T014950
CREATED:20221228T111935Z
LAST-MODIFIED:20231012T114455Z
UID:4480-1696636800-1696809599@www.guforc.de
SUMMARY:Vereinsausflug    entfällt
DESCRIPTION:
URL:https://www.guforc.de/event/vereinsausflug/
LOCATION:Da Toni Altenstadt\, Deutschland
CATEGORIES:Vereinsintern
END:VEVENT
END:VCALENDAR